BEGIN:VCALENDAR
VERSION:2.0
PRODID:-//Bend Car Culture - ECPv6.15.17//NONSGML v1.0//EN
CALSCALE:GREGORIAN
METHOD:PUBLISH
X-ORIGINAL-URL:https://www.bendcc.com
X-WR-CALDESC:Events for Bend Car Culture
REFRESH-INTERVAL;VALUE=DURATION:PT1H
X-Robots-Tag:noindex
X-PUBLISHED-TTL:PT1H
BEGIN:VTIMEZONE
TZID:America/Los_Angeles
BEGIN:DAYLIGHT
TZOFFSETFROM:-0800
TZOFFSETTO:-0700
TZNAME:PDT
DTSTART:20240310T100000
END:DAYLIGHT
BEGIN:STANDARD
TZOFFSETFROM:-0700
TZOFFSETTO:-0800
TZNAME:PST
DTSTART:20241103T090000
END:STANDARD
BEGIN:DAYLIGHT
TZOFFSETFROM:-0800
TZOFFSETTO:-0700
TZNAME:PDT
DTSTART:20250309T100000
END:DAYLIGHT
BEGIN:STANDARD
TZOFFSETFROM:-0700
TZOFFSETTO:-0800
TZNAME:PST
DTSTART:20251102T090000
END:STANDARD
BEGIN:DAYLIGHT
TZOFFSETFROM:-0800
TZOFFSETTO:-0700
TZNAME:PDT
DTSTART:20260308T100000
END:DAYLIGHT
BEGIN:STANDARD
TZOFFSETFROM:-0700
TZOFFSETTO:-0800
TZNAME:PST
DTSTART:20261101T090000
END:STANDARD
END:VTIMEZONE
BEGIN:VEVENT
DTSTART;TZID=America/Los_Angeles:20250706T160000
DTEND;TZID=America/Los_Angeles:20250706T210000
DTSTAMP:20260420T073124
CREATED:20250603T142447Z
LAST-MODIFIED:20260216T171710Z
UID:10001672-1751817600-1751835600@www.bendcc.com
SUMMARY:Dominating Central Oregon
DESCRIPTION:Everyone get ready for the biggest event central has ever seen! Mark your calendars for July 6th! \nMeet brought to you by @lostboys_hq @khaoskustomsor @541_truckin @ghostperfomance @teamunity541 @la_manya_carsntrucks @higherclassc.o @uncrowned.k1ngz @perfectionplusautosalon @dub_daddyy @gli_vr6
URL:https://www.bendcc.com/event/dominating-central-oregon/
LOCATION:Madras Dragstrip\, 97 US-26\, Madras\, 97741\, United States
CATEGORIES:Car Show Calendar
ATTACH;FMTTYPE=image/jpeg:https://www.bendcc.com/wp-content/uploads/2025/06/502908773_18059852645181149_5091101869517265669_n.jpg
END:VEVENT
BEGIN:VEVENT
DTSTART;TZID=America/Los_Angeles:20250706T080000
DTEND;TZID=America/Los_Angeles:20250706T110000
DTSTAMP:20260420T073124
CREATED:20240626T182512Z
LAST-MODIFIED:20240626T182512Z
UID:10000994-1751788800-1751799600@www.bendcc.com
SUMMARY:Bend Cars & Coffee
DESCRIPTION:Every 1st & 3rd Sunday going year round is Bend Cars & Coffee 8am at @dillydallycoffeeco on Bends Westside \n#inbend #bendcarsandcoffee #backyardbend #carculture
URL:https://www.bendcc.com/event/bend-cars-coffee-3/2025-07-06/
LOCATION:Bend Cars & Coffee\, 1001 SW Emkay Dr\, Bend\, OR\, 97702\, United States
CATEGORIES:Cars & Coffee
ATTACH;FMTTYPE=image/jpeg:https://www.bendcc.com/wp-content/uploads/2023/09/449014404_17929591517879552_4998081638604618501_n.jpg
END:VEVENT
BEGIN:VEVENT
DTSTART;TZID=America/Los_Angeles:20250705T090000
DTEND;TZID=America/Los_Angeles:20250705T150000
DTSTAMP:20260420T073124
CREATED:20250222T031744Z
LAST-MODIFIED:20260216T171710Z
UID:10001362-1751706000-1751727600@www.bendcc.com
SUMMARY:Central Oregon Flashback Car Show
DESCRIPTION:It’s Official…The Central Oregon Flashback Car Show is returning with a new date and location! \nKicking off on the 4th of July with the city of Prineville\, including a parade\, fireworks\, etc.\, followed by the Car Show on the 5th at Ochoco Creek Park. Stay tuned for more info\, we look forward to seeing you all there! \nUpdate for age of vehicles for Flashback Cruz car show…….show is open to all vehicles 1985 and older. Vehicles newer than 1985 will require prior approval. For approval please email car info and photos to flashbackcruzers@outlook.com
URL:https://www.bendcc.com/event/central-oregon-flashback-car-show/
CATEGORIES:Car Show Calendar
ATTACH;FMTTYPE=image/jpeg:https://www.bendcc.com/wp-content/uploads/2025/02/flashback.jpg
END:VEVENT
BEGIN:VEVENT
DTSTART;TZID=America/Los_Angeles:20250704T080000
DTEND;TZID=America/Los_Angeles:20250704T120000
DTSTAMP:20260420T073124
CREATED:20250512T141447Z
LAST-MODIFIED:20260216T171710Z
UID:10001666-1751616000-1751630400@www.bendcc.com
SUMMARY:Red White & Burnouts
DESCRIPTION:Red\, White\, and Burnouts\nCar Show\, Racing\, Burnout Contest
URL:https://www.bendcc.com/event/red-white-burnouts/
LOCATION:Madras Dragstrip\, 97 US-26\, Madras\, 97741\, United States
CATEGORIES:Car Show Calendar
ATTACH;FMTTYPE=image/jpeg:https://www.bendcc.com/wp-content/uploads/2025/05/Untitled.jpg
END:VEVENT
BEGIN:VEVENT
DTSTART;TZID=America/Los_Angeles:20250704T070000
DTEND;TZID=America/Los_Angeles:20250704T120000
DTSTAMP:20260420T073124
CREATED:20250608T152336Z
LAST-MODIFIED:20260216T171710Z
UID:10001675-1751612400-1751630400@www.bendcc.com
SUMMARY:Sisters 4th Fest
DESCRIPTION:Sisters 4th Fest Classic Car Show \nJoin us for the annual Sisters 4th Fest Classic Car Show on July 4th in beautiful downtown Sisters\, Oregon! This spectacular event will feature an impressive array of classic cars from the pre-1974 era. Don’t miss the opportunity to display your vintage ride and celebrate Independence Day with us. \nEvent Details:\nDate: July 4th\nLocation: Downtown Sisters\, Oregon
URL:https://www.bendcc.com/event/sisters-4th-fest/
CATEGORIES:Car Show Calendar
ATTACH;FMTTYPE=image/png:https://www.bendcc.com/wp-content/uploads/2025/06/Car-Show-facebook-web-2025-1.png
END:VEVENT
BEGIN:VEVENT
DTSTART;TZID=America/Los_Angeles:20250628T100000
DTEND;TZID=America/Los_Angeles:20250628T140000
DTSTAMP:20260420T073124
CREATED:20250409T231740Z
LAST-MODIFIED:20260216T171710Z
UID:10001652-1751104800-1751119200@www.bendcc.com
SUMMARY:4TH BIENNIAL CORVETTE SHOW-N-SHINE CAR SHOW
DESCRIPTION:S P O N S O R E D B Y PRESTIGE\nHARDWOOD FLOORING\, INC.\nL I T H I A M O T O R S C H E V R O L E T O F B E N D \nAny questions reach out to High Desert Corvette Club or review website for registration from
URL:https://www.bendcc.com/event/4th-biennial-corvette-show-n-shine-car-show/
LOCATION:Lithia Chevrolet\, 3 4 5 NE 3RD STREET\, Bend\, 97701\, United States
CATEGORIES:Car Show Calendar
ATTACH;FMTTYPE=image/jpeg:https://www.bendcc.com/wp-content/uploads/2025/04/Lithia-Car-Show-2025-PDF-1-scaled.jpg
ORGANIZER;CN="High Desert Corvettes":MAILTO:hdccorvettes@gmail.com
END:VEVENT
BEGIN:VEVENT
DTSTART;TZID=America/Los_Angeles:20250628T090000
DTEND;TZID=America/Los_Angeles:20250628T170000
DTSTAMP:20260420T073124
CREATED:20250320T201414Z
LAST-MODIFIED:20260216T171710Z
UID:10001643-1751101200-1751130000@www.bendcc.com
SUMMARY:26th Annual High Lakes Show N Shine
DESCRIPTION:Fun for the Whole Family! Music & Entertainment – Vendors – Valve Cover Races\, Raffle Prizes. Activities for Everybody! Breakfast & Lunch provided by the Activity Center Kitchen. Register early\, show limited to 125 participants.
URL:https://www.bendcc.com/event/26th-annual-high-lakes-show-n-shine/
LOCATION:La Pine Activity Center\, 16450 Victory Way\, La Pine\, 97739\, United States
CATEGORIES:Car Show Calendar
ATTACH;FMTTYPE=image/jpeg:https://www.bendcc.com/wp-content/uploads/2025/03/481483785_638630868891596_6156322203226749991_n.jpg
END:VEVENT
BEGIN:VEVENT
DTSTART;TZID=America/Los_Angeles:20250628T083000
DTEND;TZID=America/Los_Angeles:20250628T160000
DTSTAMP:20260420T073124
CREATED:20250621T193610Z
LAST-MODIFIED:20260216T171710Z
UID:10001679-1751099400-1751126400@www.bendcc.com
SUMMARY:Children's Miracle Network Car Show
DESCRIPTION:Hi everyone! Children’s Miracle Network Car Show at the Bend Walmart!\n-Show starts at 9AM\, cars are welcome to start lining up at about 8:15-8:30 AM. Show runs until 4PM\n-Cheyenne West and Daniel Linn will start performing at about 10:15 AM! A big thank you to them for playing!\n-Awards for the cars start at 2:30 PM\n-All donations go to charity! Nobody is making a dime!\n-No entry fee for show cars and all years of cars & trucks are welcome! Myself and the folks at Walmart working the show will be taking donations for Children’s Miracle Network at the show! If you’d like to donate online click the following link: https://donate.childrensmiraclenetworkhospitals.org\n-Hope to see you there! Show goes on rain or shine! Any questions\, feel free to private message me!
URL:https://www.bendcc.com/event/childrens-miracle-network-car-show/
LOCATION:Bend Walmart\, 20120 PineBrook Blvd\, Bend\, Oregon\, 97702\, United States
CATEGORIES:Car Show Calendar
ATTACH;FMTTYPE=image/jpeg:https://www.bendcc.com/wp-content/uploads/2025/06/504352133_555841604266000_4046027645523509308_n.jpg
END:VEVENT
BEGIN:VEVENT
DTSTART;TZID=America/Los_Angeles:20250622T080000
DTEND;TZID=America/Los_Angeles:20250622T170000
DTSTAMP:20260420T073124
CREATED:20250128T154954Z
LAST-MODIFIED:20260216T171710Z
UID:10001350-1750579200-1750611600@www.bendcc.com
SUMMARY:ACCO- Redmond High School
DESCRIPTION:More Details Coming Soon
URL:https://www.bendcc.com/event/acco-redmond-high-school/2025-06-22/
LOCATION:Redmond High School\, 675 SW Rimrock Way\, Redmond\, 97756\, United States
CATEGORIES:Car Show Calendar
ATTACH;FMTTYPE=image/png:https://www.bendcc.com/wp-content/uploads/2025/01/3.png
END:VEVENT
BEGIN:VEVENT
DTSTART;TZID=America/Los_Angeles:20250621T190000
DTEND;TZID=America/Los_Angeles:20250621T203000
DTSTAMP:20260420T073124
CREATED:20250608T152633Z
LAST-MODIFIED:20260216T171710Z
UID:10001676-1750532400-1750537800@www.bendcc.com
SUMMARY:Sunset & Octane
DESCRIPTION:Sunset & Octane June 21st 7pm
URL:https://www.bendcc.com/event/sunset-octane/
LOCATION:Hobby Lobby\, 2940N Hwy 97\, Bend\, 97701\, United States
CATEGORIES:Car Show Calendar
ATTACH;FMTTYPE=image/jpeg:https://www.bendcc.com/wp-content/uploads/2025/06/504400884_2794019794103736_2437831452397247324_n.jpg
END:VEVENT
BEGIN:VEVENT
DTSTART;TZID=America/Los_Angeles:20250621T100000
DTEND;TZID=America/Los_Angeles:20250621T140000
DTSTAMP:20260420T073124
CREATED:20250509T140049Z
LAST-MODIFIED:20260216T171710Z
UID:10001665-1750500000-1750514400@www.bendcc.com
SUMMARY:Powell Butte Annual Car Show
DESCRIPTION:Powell Butte Annual Car Show Classic Cars\, Food\, & Raffles
URL:https://www.bendcc.com/event/powell-butte-annual-car-show/
LOCATION:Powell Butte Community Center\, 8404 SW Reif Rd\, Powell Butte\, 97753\, United States
CATEGORIES:Car Show Calendar
ATTACH;FMTTYPE=image/jpeg:https://www.bendcc.com/wp-content/uploads/2025/05/495149008_10225605280092975_1332632633603628975_n.jpg
END:VEVENT
BEGIN:VEVENT
DTSTART;TZID=America/Los_Angeles:20250621T080000
DTEND;TZID=America/Los_Angeles:20250621T170000
DTSTAMP:20260420T073124
CREATED:20250128T154954Z
LAST-MODIFIED:20260216T171710Z
UID:10001349-1750492800-1750525200@www.bendcc.com
SUMMARY:ACCO- Redmond High School
DESCRIPTION:More Details Coming Soon
URL:https://www.bendcc.com/event/acco-redmond-high-school/2025-06-21/
LOCATION:Redmond High School\, 675 SW Rimrock Way\, Redmond\, 97756\, United States
CATEGORIES:Car Show Calendar
ATTACH;FMTTYPE=image/png:https://www.bendcc.com/wp-content/uploads/2025/01/3.png
END:VEVENT
BEGIN:VEVENT
DTSTART;TZID=America/Los_Angeles:20250620T140000
DTEND;TZID=America/Los_Angeles:20250620T160000
DTSTAMP:20260420T073124
CREATED:20250428T140809Z
LAST-MODIFIED:20260216T171711Z
UID:10001657-1750428000-1750435200@www.bendcc.com
SUMMARY:Touchmark at Pilot Butte Car Show
DESCRIPTION:Car Enthusiasts\, Touchmark would love to have you bring your car to their annual car show fundraiser for the Alzheimer’s Association on Friday\, June 20th from 2-4pm.\nFree to register!\n1125 NE Watt Way Bend\, OR 97701\n*More details in the flyer\n*Register by email: Briana.binder@touchmark.com
URL:https://www.bendcc.com/event/touchmark-at-pilot-butte-car-show/
LOCATION:Touchmark Pilot Butte\, 1125 NE Watt Way\, Bend\, 97701\, United States
CATEGORIES:Car Show Calendar
ATTACH;FMTTYPE=image/jpeg:https://www.bendcc.com/wp-content/uploads/2025/04/493288918_665763439776300_9076003582865770390_n.jpg
END:VEVENT
BEGIN:VEVENT
DTSTART;TZID=America/Los_Angeles:20250619T183000
DTEND;TZID=America/Los_Angeles:20250619T203000
DTSTAMP:20260420T073124
CREATED:20250610T145727Z
LAST-MODIFIED:20260216T171711Z
UID:10001677-1750357800-1750365000@www.bendcc.com
SUMMARY:FckCancer Car Meet
DESCRIPTION:Event is hosted by a recent cancer survivor\, also an avid car enthusiast. Spot at NW Wheel and Tire\, snacks and non alcoholic drinks are provided. You don’t have to know the survivor to attend! This is also to celebrate the beginning of summer! \nJune 19th at 6:30pm
URL:https://www.bendcc.com/event/fckcancer-car-meet/
LOCATION:NW WHEEL AND TIRE\, 61579 American loop\, Bend\, OR\, 97702\, United States
CATEGORIES:Car Show Calendar
ATTACH;FMTTYPE=image/jpeg:https://www.bendcc.com/wp-content/uploads/2025/06/494571575_726531326530319_2467794589760075610_n.jpg
END:VEVENT
BEGIN:VEVENT
DTSTART;TZID=America/Los_Angeles:20250615T110000
DTEND;TZID=America/Los_Angeles:20250615T170000
DTSTAMP:20260420T073124
CREATED:20250501T144540Z
LAST-MODIFIED:20260216T171711Z
UID:10001659-1749985200-1750006800@www.bendcc.com
SUMMARY:Father's Day Classic Car Show
DESCRIPTION:Father’s Day Classic Car Show @ General Duffy’s\nThis is a FREE event that the whole family can enjoy!
URL:https://www.bendcc.com/event/fathers-day-classic-car-show/
LOCATION:General Duffy’s Waterhole
CATEGORIES:Car Show Calendar
ATTACH;FMTTYPE=image/jpeg:https://www.bendcc.com/wp-content/uploads/2025/05/494654052_1276239097841165_1959882979112341903_n.jpg
END:VEVENT
BEGIN:VEVENT
DTSTART;TZID=America/Los_Angeles:20250615T080000
DTEND;TZID=America/Los_Angeles:20250615T110000
DTSTAMP:20260420T073124
CREATED:20240626T182627Z
LAST-MODIFIED:20240814T224938Z
UID:10001264-1749974400-1749985200@www.bendcc.com
SUMMARY:Bend Cars & Coffee
DESCRIPTION:Every 1nd & 3th Sunday going year round is Bend Cars & Coffee 8am at @dillydallycoffeeco on Bends Westside \n#inbend #bendcarsandcoffee #backyardbend #carculture
URL:https://www.bendcc.com/event/bend-cars-coffee-4/2025-06-15/
LOCATION:Bend Cars & Coffee\, 1001 SW Emkay Dr\, Bend\, OR\, 97702\, United States
CATEGORIES:Cars & Coffee
ATTACH;FMTTYPE=image/jpeg:https://www.bendcc.com/wp-content/uploads/2023/09/449014404_17929591517879552_4998081638604618501_n.jpg
END:VEVENT
BEGIN:VEVENT
DTSTART;TZID=America/Los_Angeles:20250614T130000
DTEND;TZID=America/Los_Angeles:20250614T220000
DTSTAMP:20260420T073124
CREATED:20250518T205632Z
LAST-MODIFIED:20260216T171743Z
UID:10001667-1749906000-1749938400@www.bendcc.com
SUMMARY:Upright Coffee Car Show
DESCRIPTION:Come on down and rock out with everyone for their grand opening party and car show!\nThere will be live music featuring The Kristi Kinsey Band\, lots of yummy food from El Coco\, Fat Pat’s\, Roux\, and Magic Munchie machine. Shut up N’ Drink will be there to serve you alcohol and a great time!\nCar show registration can be day of or in person at Upright Coffee Company\, it’s $10/ vehicle or bike\, 6th street will be shut down for the show.\nCome on down at check out all the cool vendors\, grab some lunch\, a drink and enjoy the show!
URL:https://www.bendcc.com/event/upright-coffee-car-show/
LOCATION:Upright Coffee Company\, 620 N main st\, Prineville\, 97754\, United States
CATEGORIES:Cars & Coffee
ATTACH;FMTTYPE=image/jpeg:https://www.bendcc.com/wp-content/uploads/2025/05/497579523_1216038673649626_4462367500028826226_n.jpg
END:VEVENT
BEGIN:VEVENT
DTSTART;TZID=America/Los_Angeles:20250614T100000
DTEND;TZID=America/Los_Angeles:20250614T150000
DTSTAMP:20260420T073124
CREATED:20250505T174300Z
LAST-MODIFIED:20260216T171711Z
UID:10001661-1749895200-1749913200@www.bendcc.com
SUMMARY:3rd Annual Wheels & Wings
DESCRIPTION:The 3rd Annual Wheels & Wings event takes place at the Prineville Airport. We’re partnering with Central Oregon Car Shows and Lasar to bring this fun and unique show to Prineville\, Oregon. Cars\, planes\, vendors\, food trucks\, music\, and more! This event is free to attend and family friendly.\nCars and planes can register at wheelsandwingsprineville.com.\nEmail them at info@wildridebrew.com if you’re interested in becoming a vendor or sponsor.
URL:https://www.bendcc.com/event/3rd-annual-wheels-wings/
LOCATION:Prineville Airport\, 4585 Airport Way\, Prineville\, 97754\, United States
CATEGORIES:Car Show Calendar
ATTACH;FMTTYPE=image/jpeg:https://www.bendcc.com/wp-content/uploads/2025/05/494563176_1176042547644184_347055928157944014_n.jpg
END:VEVENT
BEGIN:VEVENT
DTSTART;TZID=America/Los_Angeles:20250611T183000
DTEND;TZID=America/Los_Angeles:20250611T200000
DTSTAMP:20260420T073124
CREATED:20250606T200250Z
LAST-MODIFIED:20260216T171711Z
UID:10001674-1749666600-1749672000@www.bendcc.com
SUMMARY:Bend Euro Nights
DESCRIPTION:Bend Euro Nights by NW Wheel and Tire
URL:https://www.bendcc.com/event/bend-euro-nights-8/
LOCATION:NW WHEEL AND TIRE\, 61579 American loop\, Bend\, OR\, 97702\, United States
CATEGORIES:Car Show Calendar
ATTACH;FMTTYPE=image/jpeg:https://www.bendcc.com/wp-content/uploads/2025/06/504857696_17988747407810643_8612081093668104304_n.jpg
END:VEVENT
BEGIN:VEVENT
DTSTART;TZID=America/Los_Angeles:20250607T100000
DTEND;TZID=America/Los_Angeles:20250607T150000
DTSTAMP:20260420T073124
CREATED:20250209T044609Z
LAST-MODIFIED:20250217T003524Z
UID:10001358-1749290400-1749308400@www.bendcc.com
SUMMARY:Trinity Lutheran Car Show
DESCRIPTION:We are back at it again and ready to have another fun-filled day of cars\, food\, and entertainment with car enthusiasts and our wonderful community. \nThis year\, Trinity Lutheran Annual Car Show is going to be held on June 7th \, and we are expecting more cars and spectators than last year! We keep growing in numbers and this year is expected to keep that trend! And with that trend of growth\, we are excited to be able to use a bit more space this year which means we can have more cars but also vintage trailers! So\, let’s spread the word! \nLast year was ABSOLUTELY AMAZING with over 180 cars and with all your support we were able to raise a little over $17\,000 for The Battle Buddies of Central Oregon!! Thank you to all who came out and we hope you consider registering with us again this year. And as we have done in the past\, all proceeds will continue to go to a local veteran’s group in need. \nYou can register with this link (copy and paste): https://trinitybend.churchcenter.com/registrations/events/2754691 \nTrinity Lutheran Church\n2550 NE Butler Market Road\, Bend\, OR 97701 \nJune 7\, 2025 – 10:00 a.m. – 3:00 p.m.\nParking for participants start at 8:00 am; last car acceptance 9:45am\, rain or shine \nENTRY FEE: Before May 7th: $35; After May 7th: $40 \nAny questions please email: carshow@saints.org\nWe look forward to seeing you!
URL:https://www.bendcc.com/event/trinity-lutheran-car-show-2/
LOCATION:Trinity Lutheran Church and School\, 2550 Butler Market Drive\, Bend\, Oregon\, 97701
ATTACH;FMTTYPE=image/jpeg:https://www.bendcc.com/wp-content/uploads/2025/02/bend-car-culture-poster-scaled.jpg
END:VEVENT
BEGIN:VEVENT
DTSTART;TZID=America/Los_Angeles:20250607T100000
DTEND;TZID=America/Los_Angeles:20250607T140000
DTSTAMP:20260420T073124
CREATED:20250527T150457Z
LAST-MODIFIED:20250527T150457Z
UID:10001670-1749290400-1749304800@www.bendcc.com
SUMMARY:Wine-n-shine-car-show-june-1-2024-1
DESCRIPTION:Wine ‘n’ Shine Car Show – June 7\, 2025\nSat\, Jun 07 \nJun 07\, 2025\, 10:00 AM – 2:00 PM PDT\nFaith Hope & Charity Vineyards\, 70450 NW Lower Valley Dr\, Terrebonne\, OR 97760\, USA\n. The Wine ‘n’ Shine Car Show will be held on June 7\, 2025\, from 10 am to 2 pm. Check-in for cars will start at 8:00 am. Awards Ceremony starts at 2:00 pm at the the Gazebo in the vineyardTicket
URL:https://www.bendcc.com/event/wine-n-shine-car-show-june-1-2024-1/
LOCATION:Faith Hope & Charity Vineyards\, 70450 NW Lower Valley Dr\, Terrebonne\, 97760\, United States
ATTACH;FMTTYPE=image/png:https://www.bendcc.com/wp-content/uploads/2025/05/Untitled-design-5.png
END:VEVENT
BEGIN:VEVENT
DTSTART;TZID=America/Los_Angeles:20250607T080000
DTEND;TZID=America/Los_Angeles:20250607T170000
DTSTAMP:20260420T073124
CREATED:20250501T144807Z
LAST-MODIFIED:20250501T144807Z
UID:10001660-1749283200-1749315600@www.bendcc.com
SUMMARY:Herbie's Memorial Car Show
DESCRIPTION:COME SHOW YOUR VINTAGE CAR OFF AND HELP US RAISE MONEY FOR THE LOCAL YOUTH IN THE AREA. THERE WILL BE A BBQ LUNCH AND LIVE BANDS INCLUDING MATT BORDEN AND SOME OF THE BEST BANDS AROUND.
URL:https://www.bendcc.com/event/herbies-memorial-car-show/
LOCATION:Red Rock Meat Company\, 3093 SW Parrish Ln\, Powell Butte\, 97753\, United States
ATTACH;FMTTYPE=image/jpeg:https://www.bendcc.com/wp-content/uploads/2025/05/492153322_704569535247564_1493008007801151067_n.jpg
END:VEVENT
BEGIN:VEVENT
DTSTART;TZID=America/Los_Angeles:20250601T080000
DTEND;TZID=America/Los_Angeles:20250601T170000
DTSTAMP:20260420T073124
CREATED:20250128T154725Z
LAST-MODIFIED:20250512T141956Z
UID:10001348-1748764800-1748797200@www.bendcc.com
SUMMARY:ACCO - HooDoo Ski Resort
DESCRIPTION:ACCO is excited for their first event weekend of the ACCO 2025 Season. Join them as they  embark on the scenic Hoodoo Ski Area for a fast and fun weekend of competition. This year they got some new course designs that are sure to test your driving skills. Autocross is an excellent Motorsport for all drivers to enjoy. Whether you’re a seasoned veteran and first time competitor\, we’re confident you’ll have a great time.\nWe hope to see you there\, sign up soon to secure your spot!
URL:https://www.bendcc.com/event/acco-hoodoo-ski-resort/2025-06-01/
LOCATION:Hoodoo Ski Resort\, 27400 Big Lake Road\,\, Sisters\, 97759\, United States
ATTACH;FMTTYPE=image/jpeg:https://www.bendcc.com/wp-content/uploads/2025/01/495997179_701457019133482_3046233670610369844_n.jpg
END:VEVENT
BEGIN:VEVENT
DTSTART;TZID=America/Los_Angeles:20250601T080000
DTEND;TZID=America/Los_Angeles:20250601T110000
DTSTAMP:20260420T073124
CREATED:20250531T005811Z
LAST-MODIFIED:20250531T005811Z
UID:10001671-1748764800-1748775600@www.bendcc.com
SUMMARY:Rosland Cars & Coffee
DESCRIPTION:Sundays are for Caffeine & Octane!\n1st & 3rd Sundays Every Month\n8am – 11am\nHot Rods\, Muscle Cars\, Trucks\, Motorcycles and Rigs Welcome!
URL:https://www.bendcc.com/event/rosland-cars-coffee/
LOCATION:Rosland Coffee House\, 16434 Burgess Rd\, La Pine\, 97739\, United States
ATTACH;FMTTYPE=image/jpeg:https://www.bendcc.com/wp-content/uploads/2025/05/501521622_641145378899712_2883271035510209679_n.jpg
END:VEVENT
BEGIN:VEVENT
DTSTART;TZID=America/Los_Angeles:20250601T080000
DTEND;TZID=America/Los_Angeles:20250601T110000
DTSTAMP:20260420T073124
CREATED:20240626T182512Z
LAST-MODIFIED:20240626T182512Z
UID:10000993-1748764800-1748775600@www.bendcc.com
SUMMARY:Bend Cars & Coffee
DESCRIPTION:Every 1st & 3rd Sunday going year round is Bend Cars & Coffee 8am at @dillydallycoffeeco on Bends Westside \n#inbend #bendcarsandcoffee #backyardbend #carculture
URL:https://www.bendcc.com/event/bend-cars-coffee-3/2025-06-01/
LOCATION:Bend Cars & Coffee\, 1001 SW Emkay Dr\, Bend\, OR\, 97702\, United States
CATEGORIES:Cars & Coffee
ATTACH;FMTTYPE=image/jpeg:https://www.bendcc.com/wp-content/uploads/2023/09/449014404_17929591517879552_4998081638604618501_n.jpg
END:VEVENT
BEGIN:VEVENT
DTSTART;TZID=America/Los_Angeles:20250531T190000
DTEND;TZID=America/Los_Angeles:20250531T203000
DTSTAMP:20260420T073124
CREATED:20250523T141853Z
LAST-MODIFIED:20250523T141853Z
UID:10001669-1748718000-1748723400@www.bendcc.com
SUMMARY:Reels & Wheels Drive-In
DESCRIPTION:Royal Tint N Dip is having a drive-in movie night\nMovie: INITIAL D (Japanese Drift Movie)
URL:https://www.bendcc.com/event/reels-wheels-drive-in/
LOCATION:Royal Tint N Dip\, 20810 Sockeye Pl\, Bend\, 97701\, United States
ATTACH;FMTTYPE=image/jpeg:https://www.bendcc.com/wp-content/uploads/2025/05/499677630_10238930074651035_976784203806868261_n.jpg
END:VEVENT
BEGIN:VEVENT
DTSTART;TZID=America/Los_Angeles:20250531T080000
DTEND;TZID=America/Los_Angeles:20250531T170000
DTSTAMP:20260420T073124
CREATED:20250128T154725Z
LAST-MODIFIED:20250512T141956Z
UID:10001347-1748678400-1748710800@www.bendcc.com
SUMMARY:ACCO - HooDoo Ski Resort
DESCRIPTION:ACCO is excited for their first event weekend of the ACCO 2025 Season. Join them as they  embark on the scenic Hoodoo Ski Area for a fast and fun weekend of competition. This year they got some new course designs that are sure to test your driving skills. Autocross is an excellent Motorsport for all drivers to enjoy. Whether you’re a seasoned veteran and first time competitor\, we’re confident you’ll have a great time.\nWe hope to see you there\, sign up soon to secure your spot!
URL:https://www.bendcc.com/event/acco-hoodoo-ski-resort/2025-05-31/
LOCATION:Hoodoo Ski Resort\, 27400 Big Lake Road\,\, Sisters\, 97759\, United States
ATTACH;FMTTYPE=image/jpeg:https://www.bendcc.com/wp-content/uploads/2025/01/495997179_701457019133482_3046233670610369844_n.jpg
END:VEVENT
BEGIN:VEVENT
DTSTART;TZID=America/Los_Angeles:20250525T090000
DTEND;TZID=America/Los_Angeles:20250525T110000
DTSTAMP:20260420T073124
CREATED:20250520T220100Z
LAST-MODIFIED:20250520T221443Z
UID:10001668-1748163600-1748170800@www.bendcc.com
SUMMARY:Central Oregon Cars and Coffee
DESCRIPTION:A community meet to show off\, meet new enthusiasts and enjoy some Coffee/breakfast
URL:https://www.bendcc.com/event/central-oregon-cars-and-coffee-2/
LOCATION:BimmerNetwork\, 535 NE JackPine CT\, Redmond\, 97756\, United States
ATTACH;FMTTYPE=image/jpeg:https://www.bendcc.com/wp-content/uploads/2025/05/499861503_4225742337653436_8073781595278015768_n.jpg
END:VEVENT
BEGIN:VEVENT
DTSTART;TZID=America/Los_Angeles:20250518T080000
DTEND;TZID=America/Los_Angeles:20250518T110000
DTSTAMP:20260420T073124
CREATED:20240626T182627Z
LAST-MODIFIED:20240814T224938Z
UID:10001263-1747555200-1747566000@www.bendcc.com
SUMMARY:Bend Cars & Coffee
DESCRIPTION:Every 1nd & 3th Sunday going year round is Bend Cars & Coffee 8am at @dillydallycoffeeco on Bends Westside \n#inbend #bendcarsandcoffee #backyardbend #carculture
URL:https://www.bendcc.com/event/bend-cars-coffee-4/2025-05-18/
LOCATION:Bend Cars & Coffee\, 1001 SW Emkay Dr\, Bend\, OR\, 97702\, United States
CATEGORIES:Cars & Coffee
ATTACH;FMTTYPE=image/jpeg:https://www.bendcc.com/wp-content/uploads/2023/09/449014404_17929591517879552_4998081638604618501_n.jpg
END:VEVENT
BEGIN:VEVENT
DTSTART;TZID=America/Los_Angeles:20250517T200000
DTEND;TZID=America/Los_Angeles:20250517T220000
DTSTAMP:20260420T073124
CREATED:20250507T135412Z
LAST-MODIFIED:20250507T135412Z
UID:10001663-1747512000-1747519200@www.bendcc.com
SUMMARY:Drive in Movie Night
DESCRIPTION:Royal Tint N Dip is having a drive in movie night and they want to donate to a local charity that benefits children. They typically do Ronald McDonald’s house for their car show but want to donate to another charity aswell suggestions would be awesome. And if you’re interested in the drive in\, they will have limited spots…….but if it becomes a hit they are thinking of doing it weekly.
URL:https://www.bendcc.com/event/drive-in-movie-night/
LOCATION:Royal Tint N Dip\, 20810 Sockeye Pl\, Bend\, 97701\, United States
ATTACH;FMTTYPE=image/jpeg:https://www.bendcc.com/wp-content/uploads/2025/05/495009884_24178993625040219_4959992506337805249_n.jpg
ORGANIZER;CN="Royal Tint N Dip":MAILTO:Royaltintndip@gmail.com
END:VEVENT
END:VCALENDAR