BEGIN:VCALENDAR
VERSION:2.0
PRODID:-//Bend Car Culture - ECPv6.15.17//NONSGML v1.0//EN
CALSCALE:GREGORIAN
METHOD:PUBLISH
X-WR-CALNAME:Bend Car Culture
X-ORIGINAL-URL:https://www.bendcc.com
X-WR-CALDESC:Events for Bend Car Culture
REFRESH-INTERVAL;VALUE=DURATION:PT1H
X-Robots-Tag:noindex
X-PUBLISHED-TTL:PT1H
BEGIN:VTIMEZONE
TZID:America/Los_Angeles
BEGIN:DAYLIGHT
TZOFFSETFROM:-0800
TZOFFSETTO:-0700
TZNAME:PDT
DTSTART:20280312T100000
END:DAYLIGHT
BEGIN:STANDARD
TZOFFSETFROM:-0700
TZOFFSETTO:-0800
TZNAME:PST
DTSTART:20281105T090000
END:STANDARD
BEGIN:DAYLIGHT
TZOFFSETFROM:-0800
TZOFFSETTO:-0700
TZNAME:PDT
DTSTART:20290311T100000
END:DAYLIGHT
BEGIN:STANDARD
TZOFFSETFROM:-0700
TZOFFSETTO:-0800
TZNAME:PST
DTSTART:20291104T090000
END:STANDARD
BEGIN:DAYLIGHT
TZOFFSETFROM:-0800
TZOFFSETTO:-0700
TZNAME:PDT
DTSTART:20300310T100000
END:DAYLIGHT
BEGIN:STANDARD
TZOFFSETFROM:-0700
TZOFFSETTO:-0800
TZNAME:PST
DTSTART:20301103T090000
END:STANDARD
END:VTIMEZONE
BEGIN:VEVENT
DTSTART;TZID=America/Los_Angeles:20290218T080000
DTEND;TZID=America/Los_Angeles:20290218T110000
DTSTAMP:20260419T093213
CREATED:20250812T220835Z
LAST-MODIFIED:20250812T220835Z
UID:10002033-1866096000-1866106800@www.bendcc.com
SUMMARY:Rosland Cars & Coffee
DESCRIPTION:Rosland Coffee House Cars and Coffee Don’t miss it. If you forget which Sundays\, I now have a huge display on my front windows of building. That way you can see it as you drive by. Thank you\, for all your support. Who doesn’t love seeing all the cool rigs
URL:https://www.bendcc.com/event/rosland-cars-coffee-2/2029-02-18/
LOCATION:Rosland Coffee House\, 16434 Burgess Rd\, La Pine\, 97739\, United States
CATEGORIES:Cars & Coffee
ATTACH;FMTTYPE=image/jpeg:https://www.bendcc.com/wp-content/uploads/2025/08/532053069_697895043224745_5674309868896406667_n.jpg
END:VEVENT
BEGIN:VEVENT
DTSTART;TZID=America/Los_Angeles:20290304T080000
DTEND;TZID=America/Los_Angeles:20290304T110000
DTSTAMP:20260419T093213
CREATED:20240626T182512Z
LAST-MODIFIED:20240626T182512Z
UID:10001038-1867305600-1867316400@www.bendcc.com
SUMMARY:Bend Cars & Coffee
DESCRIPTION:Every 1st & 3rd Sunday going year round is Bend Cars & Coffee 8am at @dillydallycoffeeco on Bends Westside \n#inbend #bendcarsandcoffee #backyardbend #carculture
URL:https://www.bendcc.com/event/bend-cars-coffee-3/2029-03-04/
LOCATION:Bend Cars & Coffee\, 1001 SW Emkay Dr\, Bend\, OR\, 97702\, United States
CATEGORIES:Cars & Coffee
ATTACH;FMTTYPE=image/jpeg:https://www.bendcc.com/wp-content/uploads/2023/09/449014404_17929591517879552_4998081638604618501_n.jpg
END:VEVENT
BEGIN:VEVENT
DTSTART;TZID=America/Los_Angeles:20290304T080000
DTEND;TZID=America/Los_Angeles:20290304T170000
DTSTAMP:20260419T093213
CREATED:20251001T020743Z
LAST-MODIFIED:20260216T171506Z
UID:10002101-1867305600-1867338000@www.bendcc.com
SUMMARY:Rosland Cars & Coffee
DESCRIPTION:Rosland Coffee House Cars and Coffee Don’t miss it. If you forget which Sundays\, I now have a huge display on my front windows of building. That way you can see it as you drive by. Thank you\, for all your support. Who doesn’t love seeing all the cool rigs
URL:https://www.bendcc.com/event/rosland-cars-coffee-3/2029-03-04/
LOCATION:Rosland Coffee House\, 16434 Burgess Rd\, La Pine\, 97739\, United States
CATEGORIES:Cars & Coffee
ATTACH;FMTTYPE=image/jpeg:https://www.bendcc.com/wp-content/uploads/2025/09/532053069_697895043224745_5674309868896406667_n.jpg
END:VEVENT
BEGIN:VEVENT
DTSTART;TZID=America/Los_Angeles:20290318T080000
DTEND;TZID=America/Los_Angeles:20290318T110000
DTSTAMP:20260419T093213
CREATED:20240626T182627Z
LAST-MODIFIED:20240814T224938Z
UID:10001309-1868515200-1868526000@www.bendcc.com
SUMMARY:Bend Cars & Coffee
DESCRIPTION:Every 1nd & 3th Sunday going year round is Bend Cars & Coffee 8am at @dillydallycoffeeco on Bends Westside \n#inbend #bendcarsandcoffee #backyardbend #carculture
URL:https://www.bendcc.com/event/bend-cars-coffee-4/2029-03-18/
LOCATION:Bend Cars & Coffee\, 1001 SW Emkay Dr\, Bend\, OR\, 97702\, United States
CATEGORIES:Cars & Coffee
ATTACH;FMTTYPE=image/jpeg:https://www.bendcc.com/wp-content/uploads/2023/09/449014404_17929591517879552_4998081638604618501_n.jpg
END:VEVENT
BEGIN:VEVENT
DTSTART;TZID=America/Los_Angeles:20290318T080000
DTEND;TZID=America/Los_Angeles:20290318T110000
DTSTAMP:20260419T093213
CREATED:20250812T220835Z
LAST-MODIFIED:20250812T220835Z
UID:10002034-1868515200-1868526000@www.bendcc.com
SUMMARY:Rosland Cars & Coffee
DESCRIPTION:Rosland Coffee House Cars and Coffee Don’t miss it. If you forget which Sundays\, I now have a huge display on my front windows of building. That way you can see it as you drive by. Thank you\, for all your support. Who doesn’t love seeing all the cool rigs
URL:https://www.bendcc.com/event/rosland-cars-coffee-2/2029-03-18/
LOCATION:Rosland Coffee House\, 16434 Burgess Rd\, La Pine\, 97739\, United States
CATEGORIES:Cars & Coffee
ATTACH;FMTTYPE=image/jpeg:https://www.bendcc.com/wp-content/uploads/2025/08/532053069_697895043224745_5674309868896406667_n.jpg
END:VEVENT
BEGIN:VEVENT
DTSTART;TZID=America/Los_Angeles:20290401T080000
DTEND;TZID=America/Los_Angeles:20290401T110000
DTSTAMP:20260419T093213
CREATED:20240626T182512Z
LAST-MODIFIED:20240626T182512Z
UID:10001039-1869724800-1869735600@www.bendcc.com
SUMMARY:Bend Cars & Coffee
DESCRIPTION:Every 1st & 3rd Sunday going year round is Bend Cars & Coffee 8am at @dillydallycoffeeco on Bends Westside \n#inbend #bendcarsandcoffee #backyardbend #carculture
URL:https://www.bendcc.com/event/bend-cars-coffee-3/2029-04-01/
LOCATION:Bend Cars & Coffee\, 1001 SW Emkay Dr\, Bend\, OR\, 97702\, United States
CATEGORIES:Cars & Coffee
ATTACH;FMTTYPE=image/jpeg:https://www.bendcc.com/wp-content/uploads/2023/09/449014404_17929591517879552_4998081638604618501_n.jpg
END:VEVENT
BEGIN:VEVENT
DTSTART;TZID=America/Los_Angeles:20290401T080000
DTEND;TZID=America/Los_Angeles:20290401T170000
DTSTAMP:20260419T093213
CREATED:20251001T020743Z
LAST-MODIFIED:20260216T171506Z
UID:10002102-1869724800-1869757200@www.bendcc.com
SUMMARY:Rosland Cars & Coffee
DESCRIPTION:Rosland Coffee House Cars and Coffee Don’t miss it. If you forget which Sundays\, I now have a huge display on my front windows of building. That way you can see it as you drive by. Thank you\, for all your support. Who doesn’t love seeing all the cool rigs
URL:https://www.bendcc.com/event/rosland-cars-coffee-3/2029-04-01/
LOCATION:Rosland Coffee House\, 16434 Burgess Rd\, La Pine\, 97739\, United States
CATEGORIES:Cars & Coffee
ATTACH;FMTTYPE=image/jpeg:https://www.bendcc.com/wp-content/uploads/2025/09/532053069_697895043224745_5674309868896406667_n.jpg
END:VEVENT
BEGIN:VEVENT
DTSTART;TZID=America/Los_Angeles:20290415T080000
DTEND;TZID=America/Los_Angeles:20290415T110000
DTSTAMP:20260419T093213
CREATED:20240626T182627Z
LAST-MODIFIED:20240814T224938Z
UID:10001310-1870934400-1870945200@www.bendcc.com
SUMMARY:Bend Cars & Coffee
DESCRIPTION:Every 1nd & 3th Sunday going year round is Bend Cars & Coffee 8am at @dillydallycoffeeco on Bends Westside \n#inbend #bendcarsandcoffee #backyardbend #carculture
URL:https://www.bendcc.com/event/bend-cars-coffee-4/2029-04-15/
LOCATION:Bend Cars & Coffee\, 1001 SW Emkay Dr\, Bend\, OR\, 97702\, United States
CATEGORIES:Cars & Coffee
ATTACH;FMTTYPE=image/jpeg:https://www.bendcc.com/wp-content/uploads/2023/09/449014404_17929591517879552_4998081638604618501_n.jpg
END:VEVENT
BEGIN:VEVENT
DTSTART;TZID=America/Los_Angeles:20290415T080000
DTEND;TZID=America/Los_Angeles:20290415T110000
DTSTAMP:20260419T093213
CREATED:20250812T220835Z
LAST-MODIFIED:20250812T220835Z
UID:10002035-1870934400-1870945200@www.bendcc.com
SUMMARY:Rosland Cars & Coffee
DESCRIPTION:Rosland Coffee House Cars and Coffee Don’t miss it. If you forget which Sundays\, I now have a huge display on my front windows of building. That way you can see it as you drive by. Thank you\, for all your support. Who doesn’t love seeing all the cool rigs
URL:https://www.bendcc.com/event/rosland-cars-coffee-2/2029-04-15/
LOCATION:Rosland Coffee House\, 16434 Burgess Rd\, La Pine\, 97739\, United States
CATEGORIES:Cars & Coffee
ATTACH;FMTTYPE=image/jpeg:https://www.bendcc.com/wp-content/uploads/2025/08/532053069_697895043224745_5674309868896406667_n.jpg
END:VEVENT
BEGIN:VEVENT
DTSTART;TZID=America/Los_Angeles:20290429T080000
DTEND;TZID=America/Los_Angeles:20290429T100000
DTSTAMP:20260419T093213
CREATED:20260402T151107Z
LAST-MODIFIED:20260402T151107Z
UID:10002204-1872144000-1872151200@www.bendcc.com
SUMMARY:Cars & Coffee at Cascade Car Craft
DESCRIPTION:Pull up\, grab a coffee\, and check out some of the cleanest builds in the area. From daily drivers to fully built projects — everything’s welcome.
URL:https://www.bendcc.com/event/cars-coffee-at-cascade-car-craft/2029-04-29/
LOCATION:Cascade Car Craft\, 910 SE Wilson Ave\, Bend\, 97701\, United States
ATTACH;FMTTYPE=image/jpeg:https://www.bendcc.com/wp-content/uploads/2026/04/cascadecarcraft.jpg
END:VEVENT
BEGIN:VEVENT
DTSTART;TZID=America/Los_Angeles:20290506T080000
DTEND;TZID=America/Los_Angeles:20290506T110000
DTSTAMP:20260419T093213
CREATED:20240626T182512Z
LAST-MODIFIED:20240626T182512Z
UID:10001040-1872748800-1872759600@www.bendcc.com
SUMMARY:Bend Cars & Coffee
DESCRIPTION:Every 1st & 3rd Sunday going year round is Bend Cars & Coffee 8am at @dillydallycoffeeco on Bends Westside \n#inbend #bendcarsandcoffee #backyardbend #carculture
URL:https://www.bendcc.com/event/bend-cars-coffee-3/2029-05-06/
LOCATION:Bend Cars & Coffee\, 1001 SW Emkay Dr\, Bend\, OR\, 97702\, United States
CATEGORIES:Cars & Coffee
ATTACH;FMTTYPE=image/jpeg:https://www.bendcc.com/wp-content/uploads/2023/09/449014404_17929591517879552_4998081638604618501_n.jpg
END:VEVENT
BEGIN:VEVENT
DTSTART;TZID=America/Los_Angeles:20290506T080000
DTEND;TZID=America/Los_Angeles:20290506T170000
DTSTAMP:20260419T093213
CREATED:20251001T020743Z
LAST-MODIFIED:20260216T171506Z
UID:10002103-1872748800-1872781200@www.bendcc.com
SUMMARY:Rosland Cars & Coffee
DESCRIPTION:Rosland Coffee House Cars and Coffee Don’t miss it. If you forget which Sundays\, I now have a huge display on my front windows of building. That way you can see it as you drive by. Thank you\, for all your support. Who doesn’t love seeing all the cool rigs
URL:https://www.bendcc.com/event/rosland-cars-coffee-3/2029-05-06/
LOCATION:Rosland Coffee House\, 16434 Burgess Rd\, La Pine\, 97739\, United States
CATEGORIES:Cars & Coffee
ATTACH;FMTTYPE=image/jpeg:https://www.bendcc.com/wp-content/uploads/2025/09/532053069_697895043224745_5674309868896406667_n.jpg
END:VEVENT
BEGIN:VEVENT
DTSTART;TZID=America/Los_Angeles:20290520T080000
DTEND;TZID=America/Los_Angeles:20290520T110000
DTSTAMP:20260419T093213
CREATED:20240626T182627Z
LAST-MODIFIED:20240814T224938Z
UID:10001311-1873958400-1873969200@www.bendcc.com
SUMMARY:Bend Cars & Coffee
DESCRIPTION:Every 1nd & 3th Sunday going year round is Bend Cars & Coffee 8am at @dillydallycoffeeco on Bends Westside \n#inbend #bendcarsandcoffee #backyardbend #carculture
URL:https://www.bendcc.com/event/bend-cars-coffee-4/2029-05-20/
LOCATION:Bend Cars & Coffee\, 1001 SW Emkay Dr\, Bend\, OR\, 97702\, United States
CATEGORIES:Cars & Coffee
ATTACH;FMTTYPE=image/jpeg:https://www.bendcc.com/wp-content/uploads/2023/09/449014404_17929591517879552_4998081638604618501_n.jpg
END:VEVENT
BEGIN:VEVENT
DTSTART;TZID=America/Los_Angeles:20290520T080000
DTEND;TZID=America/Los_Angeles:20290520T110000
DTSTAMP:20260419T093213
CREATED:20250812T220835Z
LAST-MODIFIED:20250812T220835Z
UID:10002036-1873958400-1873969200@www.bendcc.com
SUMMARY:Rosland Cars & Coffee
DESCRIPTION:Rosland Coffee House Cars and Coffee Don’t miss it. If you forget which Sundays\, I now have a huge display on my front windows of building. That way you can see it as you drive by. Thank you\, for all your support. Who doesn’t love seeing all the cool rigs
URL:https://www.bendcc.com/event/rosland-cars-coffee-2/2029-05-20/
LOCATION:Rosland Coffee House\, 16434 Burgess Rd\, La Pine\, 97739\, United States
CATEGORIES:Cars & Coffee
ATTACH;FMTTYPE=image/jpeg:https://www.bendcc.com/wp-content/uploads/2025/08/532053069_697895043224745_5674309868896406667_n.jpg
END:VEVENT
BEGIN:VEVENT
DTSTART;TZID=America/Los_Angeles:20290603T080000
DTEND;TZID=America/Los_Angeles:20290603T110000
DTSTAMP:20260419T093213
CREATED:20240626T182512Z
LAST-MODIFIED:20240626T182512Z
UID:10001041-1875168000-1875178800@www.bendcc.com
SUMMARY:Bend Cars & Coffee
DESCRIPTION:Every 1st & 3rd Sunday going year round is Bend Cars & Coffee 8am at @dillydallycoffeeco on Bends Westside \n#inbend #bendcarsandcoffee #backyardbend #carculture
URL:https://www.bendcc.com/event/bend-cars-coffee-3/2029-06-03/
LOCATION:Bend Cars & Coffee\, 1001 SW Emkay Dr\, Bend\, OR\, 97702\, United States
CATEGORIES:Cars & Coffee
ATTACH;FMTTYPE=image/jpeg:https://www.bendcc.com/wp-content/uploads/2023/09/449014404_17929591517879552_4998081638604618501_n.jpg
END:VEVENT
BEGIN:VEVENT
DTSTART;TZID=America/Los_Angeles:20290603T080000
DTEND;TZID=America/Los_Angeles:20290603T170000
DTSTAMP:20260419T093213
CREATED:20251001T020743Z
LAST-MODIFIED:20260216T171506Z
UID:10002104-1875168000-1875200400@www.bendcc.com
SUMMARY:Rosland Cars & Coffee
DESCRIPTION:Rosland Coffee House Cars and Coffee Don’t miss it. If you forget which Sundays\, I now have a huge display on my front windows of building. That way you can see it as you drive by. Thank you\, for all your support. Who doesn’t love seeing all the cool rigs
URL:https://www.bendcc.com/event/rosland-cars-coffee-3/2029-06-03/
LOCATION:Rosland Coffee House\, 16434 Burgess Rd\, La Pine\, 97739\, United States
CATEGORIES:Cars & Coffee
ATTACH;FMTTYPE=image/jpeg:https://www.bendcc.com/wp-content/uploads/2025/09/532053069_697895043224745_5674309868896406667_n.jpg
END:VEVENT
BEGIN:VEVENT
DTSTART;TZID=America/Los_Angeles:20290617T080000
DTEND;TZID=America/Los_Angeles:20290617T110000
DTSTAMP:20260419T093213
CREATED:20240626T182627Z
LAST-MODIFIED:20240814T224938Z
UID:10001312-1876377600-1876388400@www.bendcc.com
SUMMARY:Bend Cars & Coffee
DESCRIPTION:Every 1nd & 3th Sunday going year round is Bend Cars & Coffee 8am at @dillydallycoffeeco on Bends Westside \n#inbend #bendcarsandcoffee #backyardbend #carculture
URL:https://www.bendcc.com/event/bend-cars-coffee-4/2029-06-17/
LOCATION:Bend Cars & Coffee\, 1001 SW Emkay Dr\, Bend\, OR\, 97702\, United States
CATEGORIES:Cars & Coffee
ATTACH;FMTTYPE=image/jpeg:https://www.bendcc.com/wp-content/uploads/2023/09/449014404_17929591517879552_4998081638604618501_n.jpg
END:VEVENT
BEGIN:VEVENT
DTSTART;TZID=America/Los_Angeles:20290617T080000
DTEND;TZID=America/Los_Angeles:20290617T110000
DTSTAMP:20260419T093213
CREATED:20250812T220835Z
LAST-MODIFIED:20250812T220835Z
UID:10002037-1876377600-1876388400@www.bendcc.com
SUMMARY:Rosland Cars & Coffee
DESCRIPTION:Rosland Coffee House Cars and Coffee Don’t miss it. If you forget which Sundays\, I now have a huge display on my front windows of building. That way you can see it as you drive by. Thank you\, for all your support. Who doesn’t love seeing all the cool rigs
URL:https://www.bendcc.com/event/rosland-cars-coffee-2/2029-06-17/
LOCATION:Rosland Coffee House\, 16434 Burgess Rd\, La Pine\, 97739\, United States
CATEGORIES:Cars & Coffee
ATTACH;FMTTYPE=image/jpeg:https://www.bendcc.com/wp-content/uploads/2025/08/532053069_697895043224745_5674309868896406667_n.jpg
END:VEVENT
BEGIN:VEVENT
DTSTART;TZID=America/Los_Angeles:20290701T080000
DTEND;TZID=America/Los_Angeles:20290701T110000
DTSTAMP:20260419T093213
CREATED:20240626T182512Z
LAST-MODIFIED:20240626T182512Z
UID:10002128-1877587200-1877598000@www.bendcc.com
SUMMARY:Bend Cars & Coffee
DESCRIPTION:Every 1st & 3rd Sunday going year round is Bend Cars & Coffee 8am at @dillydallycoffeeco on Bends Westside \n#inbend #bendcarsandcoffee #backyardbend #carculture
URL:https://www.bendcc.com/event/bend-cars-coffee-3/2029-07-01/
LOCATION:Bend Cars & Coffee\, 1001 SW Emkay Dr\, Bend\, OR\, 97702\, United States
CATEGORIES:Cars & Coffee
ATTACH;FMTTYPE=image/jpeg:https://www.bendcc.com/wp-content/uploads/2023/09/449014404_17929591517879552_4998081638604618501_n.jpg
END:VEVENT
BEGIN:VEVENT
DTSTART;TZID=America/Los_Angeles:20290701T080000
DTEND;TZID=America/Los_Angeles:20290701T170000
DTSTAMP:20260419T093213
CREATED:20251001T020743Z
LAST-MODIFIED:20260216T171506Z
UID:10002105-1877587200-1877619600@www.bendcc.com
SUMMARY:Rosland Cars & Coffee
DESCRIPTION:Rosland Coffee House Cars and Coffee Don’t miss it. If you forget which Sundays\, I now have a huge display on my front windows of building. That way you can see it as you drive by. Thank you\, for all your support. Who doesn’t love seeing all the cool rigs
URL:https://www.bendcc.com/event/rosland-cars-coffee-3/2029-07-01/
LOCATION:Rosland Coffee House\, 16434 Burgess Rd\, La Pine\, 97739\, United States
CATEGORIES:Cars & Coffee
ATTACH;FMTTYPE=image/jpeg:https://www.bendcc.com/wp-content/uploads/2025/09/532053069_697895043224745_5674309868896406667_n.jpg
END:VEVENT
BEGIN:VEVENT
DTSTART;TZID=America/Los_Angeles:20290715T080000
DTEND;TZID=America/Los_Angeles:20290715T110000
DTSTAMP:20260419T093213
CREATED:20240626T182627Z
LAST-MODIFIED:20240814T224938Z
UID:10001313-1878796800-1878807600@www.bendcc.com
SUMMARY:Bend Cars & Coffee
DESCRIPTION:Every 1nd & 3th Sunday going year round is Bend Cars & Coffee 8am at @dillydallycoffeeco on Bends Westside \n#inbend #bendcarsandcoffee #backyardbend #carculture
URL:https://www.bendcc.com/event/bend-cars-coffee-4/2029-07-15/
LOCATION:Bend Cars & Coffee\, 1001 SW Emkay Dr\, Bend\, OR\, 97702\, United States
CATEGORIES:Cars & Coffee
ATTACH;FMTTYPE=image/jpeg:https://www.bendcc.com/wp-content/uploads/2023/09/449014404_17929591517879552_4998081638604618501_n.jpg
END:VEVENT
BEGIN:VEVENT
DTSTART;TZID=America/Los_Angeles:20290715T080000
DTEND;TZID=America/Los_Angeles:20290715T110000
DTSTAMP:20260419T093213
CREATED:20250812T220835Z
LAST-MODIFIED:20250812T220835Z
UID:10002038-1878796800-1878807600@www.bendcc.com
SUMMARY:Rosland Cars & Coffee
DESCRIPTION:Rosland Coffee House Cars and Coffee Don’t miss it. If you forget which Sundays\, I now have a huge display on my front windows of building. That way you can see it as you drive by. Thank you\, for all your support. Who doesn’t love seeing all the cool rigs
URL:https://www.bendcc.com/event/rosland-cars-coffee-2/2029-07-15/
LOCATION:Rosland Coffee House\, 16434 Burgess Rd\, La Pine\, 97739\, United States
CATEGORIES:Cars & Coffee
ATTACH;FMTTYPE=image/jpeg:https://www.bendcc.com/wp-content/uploads/2025/08/532053069_697895043224745_5674309868896406667_n.jpg
END:VEVENT
BEGIN:VEVENT
DTSTART;TZID=America/Los_Angeles:20290729T080000
DTEND;TZID=America/Los_Angeles:20290729T100000
DTSTAMP:20260419T093213
CREATED:20260402T151107Z
LAST-MODIFIED:20260402T151107Z
UID:10002205-1880006400-1880013600@www.bendcc.com
SUMMARY:Cars & Coffee at Cascade Car Craft
DESCRIPTION:Pull up\, grab a coffee\, and check out some of the cleanest builds in the area. From daily drivers to fully built projects — everything’s welcome.
URL:https://www.bendcc.com/event/cars-coffee-at-cascade-car-craft/2029-07-29/
LOCATION:Cascade Car Craft\, 910 SE Wilson Ave\, Bend\, 97701\, United States
ATTACH;FMTTYPE=image/jpeg:https://www.bendcc.com/wp-content/uploads/2026/04/cascadecarcraft.jpg
END:VEVENT
BEGIN:VEVENT
DTSTART;TZID=America/Los_Angeles:20290805T080000
DTEND;TZID=America/Los_Angeles:20290805T110000
DTSTAMP:20260419T093213
CREATED:20240626T182512Z
LAST-MODIFIED:20240626T182512Z
UID:10002129-1880611200-1880622000@www.bendcc.com
SUMMARY:Bend Cars & Coffee
DESCRIPTION:Every 1st & 3rd Sunday going year round is Bend Cars & Coffee 8am at @dillydallycoffeeco on Bends Westside \n#inbend #bendcarsandcoffee #backyardbend #carculture
URL:https://www.bendcc.com/event/bend-cars-coffee-3/2029-08-05/
LOCATION:Bend Cars & Coffee\, 1001 SW Emkay Dr\, Bend\, OR\, 97702\, United States
CATEGORIES:Cars & Coffee
ATTACH;FMTTYPE=image/jpeg:https://www.bendcc.com/wp-content/uploads/2023/09/449014404_17929591517879552_4998081638604618501_n.jpg
END:VEVENT
BEGIN:VEVENT
DTSTART;TZID=America/Los_Angeles:20290805T080000
DTEND;TZID=America/Los_Angeles:20290805T170000
DTSTAMP:20260419T093213
CREATED:20251001T020743Z
LAST-MODIFIED:20260216T171506Z
UID:10002106-1880611200-1880643600@www.bendcc.com
SUMMARY:Rosland Cars & Coffee
DESCRIPTION:Rosland Coffee House Cars and Coffee Don’t miss it. If you forget which Sundays\, I now have a huge display on my front windows of building. That way you can see it as you drive by. Thank you\, for all your support. Who doesn’t love seeing all the cool rigs
URL:https://www.bendcc.com/event/rosland-cars-coffee-3/2029-08-05/
LOCATION:Rosland Coffee House\, 16434 Burgess Rd\, La Pine\, 97739\, United States
CATEGORIES:Cars & Coffee
ATTACH;FMTTYPE=image/jpeg:https://www.bendcc.com/wp-content/uploads/2025/09/532053069_697895043224745_5674309868896406667_n.jpg
END:VEVENT
BEGIN:VEVENT
DTSTART;TZID=America/Los_Angeles:20290819T080000
DTEND;TZID=America/Los_Angeles:20290819T110000
DTSTAMP:20260419T093213
CREATED:20240626T182627Z
LAST-MODIFIED:20240814T224938Z
UID:10002147-1881820800-1881831600@www.bendcc.com
SUMMARY:Bend Cars & Coffee
DESCRIPTION:Every 1nd & 3th Sunday going year round is Bend Cars & Coffee 8am at @dillydallycoffeeco on Bends Westside \n#inbend #bendcarsandcoffee #backyardbend #carculture
URL:https://www.bendcc.com/event/bend-cars-coffee-4/2029-08-19/
LOCATION:Bend Cars & Coffee\, 1001 SW Emkay Dr\, Bend\, OR\, 97702\, United States
CATEGORIES:Cars & Coffee
ATTACH;FMTTYPE=image/jpeg:https://www.bendcc.com/wp-content/uploads/2023/09/449014404_17929591517879552_4998081638604618501_n.jpg
END:VEVENT
BEGIN:VEVENT
DTSTART;TZID=America/Los_Angeles:20290819T080000
DTEND;TZID=America/Los_Angeles:20290819T110000
DTSTAMP:20260419T093213
CREATED:20250812T220835Z
LAST-MODIFIED:20250812T220835Z
UID:10002039-1881820800-1881831600@www.bendcc.com
SUMMARY:Rosland Cars & Coffee
DESCRIPTION:Rosland Coffee House Cars and Coffee Don’t miss it. If you forget which Sundays\, I now have a huge display on my front windows of building. That way you can see it as you drive by. Thank you\, for all your support. Who doesn’t love seeing all the cool rigs
URL:https://www.bendcc.com/event/rosland-cars-coffee-2/2029-08-19/
LOCATION:Rosland Coffee House\, 16434 Burgess Rd\, La Pine\, 97739\, United States
CATEGORIES:Cars & Coffee
ATTACH;FMTTYPE=image/jpeg:https://www.bendcc.com/wp-content/uploads/2025/08/532053069_697895043224745_5674309868896406667_n.jpg
END:VEVENT
BEGIN:VEVENT
DTSTART;TZID=America/Los_Angeles:20290902T080000
DTEND;TZID=America/Los_Angeles:20290902T110000
DTSTAMP:20260419T093213
CREATED:20240626T182512Z
LAST-MODIFIED:20240626T182512Z
UID:10002130-1883030400-1883041200@www.bendcc.com
SUMMARY:Bend Cars & Coffee
DESCRIPTION:Every 1st & 3rd Sunday going year round is Bend Cars & Coffee 8am at @dillydallycoffeeco on Bends Westside \n#inbend #bendcarsandcoffee #backyardbend #carculture
URL:https://www.bendcc.com/event/bend-cars-coffee-3/2029-09-02/
LOCATION:Bend Cars & Coffee\, 1001 SW Emkay Dr\, Bend\, OR\, 97702\, United States
CATEGORIES:Cars & Coffee
ATTACH;FMTTYPE=image/jpeg:https://www.bendcc.com/wp-content/uploads/2023/09/449014404_17929591517879552_4998081638604618501_n.jpg
END:VEVENT
BEGIN:VEVENT
DTSTART;TZID=America/Los_Angeles:20290902T080000
DTEND;TZID=America/Los_Angeles:20290902T170000
DTSTAMP:20260419T093213
CREATED:20251001T020743Z
LAST-MODIFIED:20260216T171506Z
UID:10002107-1883030400-1883062800@www.bendcc.com
SUMMARY:Rosland Cars & Coffee
DESCRIPTION:Rosland Coffee House Cars and Coffee Don’t miss it. If you forget which Sundays\, I now have a huge display on my front windows of building. That way you can see it as you drive by. Thank you\, for all your support. Who doesn’t love seeing all the cool rigs
URL:https://www.bendcc.com/event/rosland-cars-coffee-3/2029-09-02/
LOCATION:Rosland Coffee House\, 16434 Burgess Rd\, La Pine\, 97739\, United States
CATEGORIES:Cars & Coffee
ATTACH;FMTTYPE=image/jpeg:https://www.bendcc.com/wp-content/uploads/2025/09/532053069_697895043224745_5674309868896406667_n.jpg
END:VEVENT
BEGIN:VEVENT
DTSTART;TZID=America/Los_Angeles:20290916T080000
DTEND;TZID=America/Los_Angeles:20290916T110000
DTSTAMP:20260419T093213
CREATED:20240626T182627Z
LAST-MODIFIED:20240814T224938Z
UID:10002148-1884240000-1884250800@www.bendcc.com
SUMMARY:Bend Cars & Coffee
DESCRIPTION:Every 1nd & 3th Sunday going year round is Bend Cars & Coffee 8am at @dillydallycoffeeco on Bends Westside \n#inbend #bendcarsandcoffee #backyardbend #carculture
URL:https://www.bendcc.com/event/bend-cars-coffee-4/2029-09-16/
LOCATION:Bend Cars & Coffee\, 1001 SW Emkay Dr\, Bend\, OR\, 97702\, United States
CATEGORIES:Cars & Coffee
ATTACH;FMTTYPE=image/jpeg:https://www.bendcc.com/wp-content/uploads/2023/09/449014404_17929591517879552_4998081638604618501_n.jpg
END:VEVENT
END:VCALENDAR